BEGIN:VCALENDAR
VERSION:2.0
PRODID:-//wp-events-plugin.com//6.6.3//EN
BEGIN:VEVENT
UID:50@berthadders.nl
DTSTART;TZID=Europe/Amsterdam:20240317T140000
DTEND;TZID=Europe/Amsterdam:20240317T163000
DTSTAMP:20240226T100432Z
URL:https://berthadders.nl/events/cazemier-boerderij-tolbert/
SUMMARY:Cazemier Boerderij Tolbert
DESCRIPTION:Solo optreden Bert Hadders
ATTACH;FMTTYPE=image/jpeg:https://berthadders.nl/wordpress/wp-content/uplo
 ads/trees-rouw-bert-in-vanslag-e1688479564210.jpg
LOCATION:Cazemier Boerderij\, Hoofdstraat 27\, Tolbert\, Nederland
X-APPLE-STRUCTURED-LOCATION;VALUE=URI;X-ADDRESS=Hoofdstraat 27\, Tolbert\, 
 Nederland;X-APPLE-RADIUS=100;X-TITLE=Cazemier Boerderij:geo:0,0
END:VEVENT
BEGIN:VTIMEZONE
TZID:Europe/Amsterdam
X-LIC-LOCATION:Europe/Amsterdam
BEGIN:STANDARD
DTSTART:20231029T020000
TZOFFSETFROM:+0200
TZOFFSETTO:+0100
TZNAME:CET
END:STANDARD
END:VTIMEZONE
END:VCALENDAR