BEGIN:VCALENDAR
VERSION:2.0
PRODID:-//wp-events-plugin.com//6.6.3//EN
BEGIN:VEVENT
UID:67@berthadders.nl
DTSTART;TZID=Africa/Abidjan:20241116T190000
DTEND;TZID=Africa/Abidjan:20241116T190000
DTSTAMP:20240521T150318Z
URL:https://berthadders.nl/events/spiekeroog-bruckenbauer/
SUMMARY:Spiekeroog Brückenbauer
DESCRIPTION:
ATTACH;FMTTYPE=image/jpeg:https://berthadders.nl/wordpress/wp-content/uplo
 ads/ROB7921-goed-scaled.jpg
LOCATION:Inselkino\, Noorderpad 25\, Spiekeroog\, Duitsland \, Noord\, Duit
 sland
X-APPLE-STRUCTURED-LOCATION;VALUE=URI;X-ADDRESS=Noorderpad 25\, Spiekeroog\
 , Duitsland \, Noord\, Duitsland;X-APPLE-RADIUS=100;X-TITLE=Inselkino:geo:
 0,0
END:VEVENT
BEGIN:VTIMEZONE
TZID:Africa/Abidjan
X-LIC-LOCATION:Africa/Abidjan
BEGIN:STANDARD
DTSTART:20231117T190000
TZOFFSETFROM:+0000
TZOFFSETTO:+0000
TZNAME:GMT
END:STANDARD
END:VTIMEZONE
END:VCALENDAR